BEGIN:VCALENDAR
VERSION:2.0
PRODID:-//The Komunal Cafe - ECPv6.15.16//NONSGML v1.0//EN
CALSCALE:GREGORIAN
METHOD:PUBLISH
X-ORIGINAL-URL:https://thekomunal.com
X-WR-CALDESC:Events for The Komunal Cafe
REFRESH-INTERVAL;VALUE=DURATION:PT1H
X-Robots-Tag:noindex
X-PUBLISHED-TTL:PT1H
BEGIN:VTIMEZONE
TZID:Asia/Shanghai
BEGIN:STANDARD
TZOFFSETFROM:+0800
TZOFFSETTO:+0800
TZNAME:CST
DTSTART:20230101T000000
END:STANDARD
END:VTIMEZONE
BEGIN:VEVENT
DTSTART;TZID=Asia/Shanghai:20240310T100000
DTEND;TZID=Asia/Shanghai:20240310T130000
DTSTAMP:20260421T131203
CREATED:20240304T014051Z
LAST-MODIFIED:20240304T070029Z
UID:1118-1710064800-1710075600@thekomunal.com
SUMMARY:Antara Hidup & Wang
DESCRIPTION:Hi! Selama ni kita asyik lepak dalam Live TikTok je kan? So now\, here’s a chance to finally meet and grace each other. FINALLY! \nCoffee Session with Azim Adnan is here! \nSaya sangat berbesar hati nak jemput korang semua untuk hadir dan lepak dengan saya dan kawan kawan yang lain. \nSaya yakin great circle will create a great you!Korang boleh saling kenal mengenali\, belajar daripada masing masing dan buka peluang baru. \nNak hidup kena ada wang dan dengan wang boleh teruskan kehidupan. Di Coffee Session kali ini\, Azim akan berkongsikan tentang: \n– Skill kehidupan dan skill kewangan.\n– Macam mana nak survive in real world\n– Pengalaman hidup Azim susulan Move Letter (tak pernah diceritakan)\n– Pengalaman Azim merasai cashflow pendapatan masuk setiap hari\n– Apa strategy untuk berjaya financially dalam hidup \nI’ll see you there!
URL:https://thekomunal.com/komunight/antara-hidup-wang/
LOCATION:The Komunal Cafe Bukit Jelutong\, 4-G-03\,D\, vida Shop Office\, Jalan Bazar U8/100\, Bukit Jelutong\, Shah Alam\, Selangor\, 40150\, Malaysia
ATTACH;FMTTYPE=image/jpeg:https://thekomunal.com/wp-content/uploads/2024/03/IMG_9925.jpeg
END:VEVENT
END:VCALENDAR